BEGIN:VCALENDAR
VERSION:2.0
BEGIN:VEVENT
STATUS:TENTATIVE
DTSTART:20161130T083000Z
DTEND:20161130T100000Z
SUMMARY:Tertulia sobre la Ley 39/2015, de 1 de octubre, del Procedimiento Administrativo Común de las Administraciones Públicas
LOCATION:Sede Central, C/ Claudio Coello 106, 6º dcha.
DESCRIPTION:Tertulia. Ponente: José María Rodríguez de Santiago, Catedrático de Derecho Administrativo en la UAM 
END:VEVENT
END:VCALENDAR
