BEGIN:VCALENDAR
VERSION:2.0
BEGIN:VEVENT
STATUS:TENTATIVE
DTSTART:20161124T153000Z
DTEND:20161124T190000Z
SUMMARY: El testamento del empresario como instrumento de planificación en la transmisión de la empresa familiar. Aspectos civiles y fiscales
LOCATION:Salón de Actos del Edificio Rector Sabater
DESCRIPTION:Jornada. de 16:30 a 20:00
END:VEVENT
END:VCALENDAR
