BEGIN:VCALENDAR
VERSION:2.0
BEGIN:VEVENT
STATUS:TENTATIVE
DTSTART:20161121T083000Z
DTEND:20161121T163000Z
SUMMARY:II Jornada AEDAF - ICJCE: Auditoria y Fiscalidad
LOCATION:Hotel Vincci Soma. Calle de Goya, 79
DESCRIPTION:Jornada. de 09:30 a 17:30
END:VEVENT
END:VCALENDAR
