BEGIN:VCALENDAR
VERSION:2.0
BEGIN:VEVENT
STATUS:TENTATIVE
DTSTART:20161118T110000Z
DTEND:20161118T120000Z
SUMMARY:La gestión del tiempo en los despachos profesionales…o cómo ganar 80 minutos al día
LOCATION:Sede Central, C/ Claudio Coello 106, 6º dcha.
DESCRIPTION:Tertulia. 
END:VEVENT
END:VCALENDAR
