BEGIN:VCALENDAR
VERSION:2.0
BEGIN:VEVENT
STATUS:TENTATIVE
DTSTART:20161213T150000Z
DTEND:20161213T180000Z
SUMMARY:Cierre Fiscal 2016: Impuesto sobre Sociedades
LOCATION:Hotel Carlton. Plaza Moyua 2, Bilbao
DESCRIPTION:Jornada. Ponente: Antonio Pérez Delgado, Inspector de Hacienda. Subdirector de Inspección de la Hacienda Foral de Bizkaia
END:VEVENT
END:VCALENDAR
