BEGIN:VCALENDAR
VERSION:2.0
BEGIN:VEVENT
STATUS:TENTATIVE
DTSTART:20161213T093000Z
DTEND:20161213T130000Z
SUMMARY:Sociedades civiles.Reformas en su tributación.
LOCATION:Casino Eslava  Plaza del Castillo, 16
DESCRIPTION:Jornada. De 10:30 a 14:00
END:VEVENT
END:VCALENDAR
