BEGIN:VCALENDAR
VERSION:2.0
BEGIN:VEVENT
STATUS:TENTATIVE
DTSTART:20161221T153000Z
DTEND:20161221T190000Z
SUMMARY:Jornada + Cena de Navidad: Impuesto de Sociedades y Contabilidad. Cierre 2016
LOCATION:Sporting Club de Tenis Valencia Avda. Baleares, 29
DESCRIPTION:Jornada. Cena de Navidad: Es necesario elegir plato principal
END:VEVENT
END:VCALENDAR
