BEGIN:VCALENDAR
VERSION:2.0
BEGIN:VEVENT
STATUS:TENTATIVE
DTSTART:20161221T081500Z
DTEND:20161221T120000Z
SUMMARY:Novedades en el Suministro Inmediato de Información y en el Impuesto sobre Sociedades
LOCATION:Hotel Vincci Soma Calle de Goya, 79; 28001 Madrid
DESCRIPTION:Jornada. Disponible Inscripción por VIDEOSTREAMING
END:VEVENT
END:VCALENDAR
