BEGIN:VCALENDAR
VERSION:2.0
BEGIN:VEVENT
STATUS:TENTATIVE
DTSTART:20170110T153000Z
DTEND:20170110T183000Z
SUMMARY:ACTUALIZACIÓN TRIBUTARIA. NOVEDADES TRIBUTARIA DE FIN DE AÑO: RDL 3/2016,RD 596/2016 Y OTRAS NORMAS
LOCATION:Auditorio del Business World Alicante.
DESCRIPTION:Jornada. Horario: 16:30 a 19:30
END:VEVENT
END:VCALENDAR
