BEGIN:VCALENDAR
VERSION:2.0
BEGIN:VEVENT
STATUS:TENTATIVE
DTSTART:20170117T150000Z
DTEND:20170117T180000Z
SUMMARY:El Impuesto de Sucesiones y Donaciones y la residencia fiscal
LOCATION:ICAIB - La Rambla, 10
DESCRIPTION:Jornada. 
END:VEVENT
END:VCALENDAR
