BEGIN:VCALENDAR
VERSION:2.0
BEGIN:VEVENT
STATUS:TENTATIVE
DTSTART:20170109T160000Z
DTEND:20170109T190000Z
SUMMARY:NOVEDADES NORMATIVAS TRIBUTARIAS 2016/2017
LOCATION:Salón de la Facultad de Derecho de Albacete. 
DESCRIPTION:Jornada. Horario: 17:00 a 20:00
END:VEVENT
END:VCALENDAR
