BEGIN:VCALENDAR
VERSION:2.0
BEGIN:VEVENT
STATUS:TENTATIVE
DTSTART:20170126T160000Z
DTEND:20170126T180000Z
SUMMARY:“Novedades sobre el Modelo 720 en la Comisión Europea y en la Inspección de Tributos”
LOCATION:Sede AEDAF Canarias (c/ Rafael Nebot,5 - 1º Las Palmas de Gran Canaria)
DESCRIPTION:Jornada. De 17:00 a 19:00 horas
END:VEVENT
END:VCALENDAR
