BEGIN:VCALENDAR
VERSION:2.0
BEGIN:VEVENT
STATUS:TENTATIVE
DTSTART:20170202T153000Z
DTEND:20170202T183000Z
SUMMARY: Actualización Tributaria. Especial Atención a las Novedades en Materia de IVA, Facturación,Modelo 347, Modelo 184
LOCATION:Auditorio del Business World Alicante
DESCRIPTION:Jornada. Horario: 16:30 a 19:30
END:VEVENT
END:VCALENDAR
