BEGIN:VCALENDAR
VERSION:2.0
BEGIN:VEVENT
STATUS:TENTATIVE
DTSTART:20170201T083000Z
DTEND:20170201T100000Z
SUMMARY:Taller práctico en prevención del blanqueo de capitales
LOCATION:Sede Central, C/ Claudio Coello 106, 6º dcha.
DESCRIPTION:Tertulia. 
END:VEVENT
END:VCALENDAR
