BEGIN:VCALENDAR
VERSION:2.0
BEGIN:VEVENT
STATUS:TENTATIVE
DTSTART:20170201T150000Z
DTEND:20170201T170000Z
SUMMARY:Tertulia Fiscal
LOCATION:Hotel Londres y de Inglaterra. C/ Zubieta Kalea, 2 
DESCRIPTION:Jornada. 
END:VEVENT
END:VCALENDAR
