BEGIN:VCALENDAR
VERSION:2.0
BEGIN:VEVENT
STATUS:TENTATIVE
DTSTART:20170209T160000Z
DTEND:20170209T190000Z
SUMMARY:Última doctrina del TEAR de la Comunidad Valenciana en materia de Impuestos y Procedimiento
LOCATION:Hotel Ayre Astoria Palace Plaza Rodrigo Botet. 
DESCRIPTION:Jornada. 
END:VEVENT
END:VCALENDAR
