BEGIN:VCALENDAR
VERSION:2.0
BEGIN:VEVENT
STATUS:TENTATIVE
DTSTART:20170214T093000Z
DTEND:20170214T133000Z
SUMMARY:La Responsabilidad Tributaria. Análisis de los supuestos para la derivación de responsabilidad tributaria y motivos de impugnación en defensa del responsable tributaria.
LOCATION:Salón de la Facultad de Derecho de Albacete. 
DESCRIPTION:Jornada. Horario: 10:30 a 14:30
END:VEVENT
END:VCALENDAR
