BEGIN:VCALENDAR
VERSION:2.0
BEGIN:VEVENT
STATUS:TENTATIVE
DTSTART:20170316T153000Z
DTEND:20170316T190000Z
SUMMARY:Cuestiones tributarias actuales de la empresa familiar
LOCATION:Universidad de Derecho. (Campus de la Merced, calle Santo Cristo, 1, Murcia). Sala de Juntas en planta baja. Entrada por patio central.
DESCRIPTION:Jornada. Ponente: Ángel Sánchez Sánchez, Catedrático de Economía Aplicada de la Universidad de Alicante y Director del Máster de Tributación. Universidad de Alicante-Instituto de Estudios Fiscales.
END:VEVENT
END:VCALENDAR
