BEGIN:VCALENDAR
VERSION:2.0
BEGIN:VEVENT
STATUS:TENTATIVE
DTSTART:20170222T083000Z
DTEND:20170222T100000Z
SUMMARY:Uso práctico de la página web de la AEAT
LOCATION:Sede Central, C/ Claudio Coello 106, 6º dcha.
DESCRIPTION:Tertulia. Ponente: José Luis Ruiz Mingo, Subdirector de asistencia al contribuyente del departamento de gestion tributaria 
END:VEVENT
END:VCALENDAR
