BEGIN:VCALENDAR
VERSION:2.0
BEGIN:VEVENT
STATUS:TENTATIVE
DTSTART:20170301T150000Z
DTEND:20170301T183000Z
SUMMARY:SII. La problemática a la que se enfrentan las empresas para su implementación.
LOCATION:Hotel NH Príncipe de Vergara.
DESCRIPTION:Jornada. Ponentes: Mercedes Jordán y Javier Sánchez Gallardo
END:VEVENT
END:VCALENDAR
