BEGIN:VCALENDAR
VERSION:2.0
BEGIN:VEVENT
STATUS:TENTATIVE
DTSTART:20170223T153000Z
DTEND:20170223T183000Z
SUMMARY: Análisis práctico de la exención del patrimonio empresarial y profesional en el Impuesto sobre el  Patrimonio
LOCATION:Auditorio del Business World Alicante
DESCRIPTION:Jornada. Horario:16:30 a 19:30
END:VEVENT
END:VCALENDAR
