BEGIN:VCALENDAR
VERSION:2.0
BEGIN:VEVENT
STATUS:TENTATIVE
DTSTART:20170316T083000Z
DTEND:20170316T170000Z
SUMMARY:Encuentro con el Poder Judicial
LOCATION:ICADE. Alberto Aguilera, 23
DESCRIPTION:Jornada. 
END:VEVENT
END:VCALENDAR
