BEGIN:VCALENDAR
VERSION:2.0
BEGIN:VEVENT
STATUS:TENTATIVE
DTSTART:20170306T160000Z
DTEND:20170306T190000Z
SUMMARY:Actualización Tributaria. Especial referencia al modelo 720 de declaración informativa sobre bienes y derechos en el extranjero.
LOCATION:Salón de la Facultad de Derecho de Albacete. 
DESCRIPTION:Jornada. Horario: 17:00 a 20:00
END:VEVENT
END:VCALENDAR
