BEGIN:VCALENDAR
VERSION:2.0
BEGIN:VEVENT
STATUS:TENTATIVE
DTSTART:20170503T080000Z
DTEND:20170503T160000Z
SUMMARY:XIII Congreso Tributario
LOCATION:Palacio de Justicia (Pedro Ibarrexe s/n; Bilbao)
DESCRIPTION:Jornada. 
END:VEVENT
END:VCALENDAR
