BEGIN:VCALENDAR
VERSION:2.0
BEGIN:VEVENT
STATUS:TENTATIVE
DTSTART:20170228T160000Z
DTEND:20170228T190000Z
SUMMARY:Jornada sobre el Impuesto sobre Sociedades
LOCATION:Hotel Silken Puerta Valencia Avenida del Cardenal Benlloch, 28
DESCRIPTION:Jornada. 
END:VEVENT
END:VCALENDAR
