BEGIN:VCALENDAR
VERSION:2.0
BEGIN:VEVENT
STATUS:TENTATIVE
DTSTART:20170221T160000Z
DTEND:20170221T180000Z
SUMMARY:Principales incidencias en la gestión y aplicación práctica del IRNR
LOCATION:Sede AEDAF Canarias (c/ Rafael Nebot,5 - 1º Las Palmas de Gran Canaria)
DESCRIPTION:Jornada. De 17:00 a 19:00 horas
END:VEVENT
END:VCALENDAR
