BEGIN:VCALENDAR
VERSION:2.0
BEGIN:VEVENT
STATUS:TENTATIVE
DTSTART:20170302T153000Z
DTEND:20170302T183000Z
SUMMARY:Modificaciones tributaria aprobadas para 2017 en el ámbito de la Comunidad Valenciana.Especial atención al ISD.Análisis especifico de los beneficios fiscales por transmisión de la empresa familiar.
LOCATION:Auditorio del Business World Alicante.
DESCRIPTION:Jornada. Horario:16.30 a 19:30
END:VEVENT
END:VCALENDAR
