BEGIN:VCALENDAR
VERSION:2.0
BEGIN:VEVENT
STATUS:TENTATIVE
DTSTART:20170424T150000Z
DTEND:20170424T163000Z
SUMMARY:El procedimiento de  verificación de datos a la luz de los últimos pronunciamientos administrativos y judiciales.
LOCATION:Sede Central, C/ Claudio Coello 106, 6º dcha.
DESCRIPTION:Tertulia. Ponente: D. Ricardo Huesca, abogacía del Estado en la Audiencia Nacional.
END:VEVENT
END:VCALENDAR
