BEGIN:VCALENDAR
VERSION:2.0
BEGIN:VEVENT
STATUS:TENTATIVE
DTSTART:20170228T093000Z
DTEND:20170228T130000Z
SUMMARY:Novedades Fiscales y Contables 2017. Aplazamientos y Fraccionamientos de Pago de la  Deudas Tributarias. Nueva situación tras el RD/2016.
LOCATION:Colegio de Abogado de Oviedo. C/Schultz, 5
DESCRIPTION:Jornada. Impartido por: D. Arturo Tuero y D. José Manuel González-Lamuño, Inspectores de la AEAT de Oviedo
END:VEVENT
END:VCALENDAR
