BEGIN:VCALENDAR
VERSION:2.0
BEGIN:VEVENT
STATUS:TENTATIVE
DTSTART:20170307T160000Z
DTEND:20170307T183000Z
SUMMARY:Curso práctico del Impuesto sobre Sucesiones
LOCATION:Sede Valencia. C/ La Paz, 35
DESCRIPTION:Jornada. Supuesto práctico mediante la utilización del programa de ayuda SARA 650
END:VEVENT
END:VCALENDAR
