BEGIN:VCALENDAR
VERSION:2.0
BEGIN:VEVENT
STATUS:TENTATIVE
DTSTART:20170327T143000Z
DTEND:20170327T173000Z
SUMMARY:Curso práctico de IRPF
LOCATION:Sede Valencia. C/ La Paz, 35
DESCRIPTION:Jornada. 
END:VEVENT
END:VCALENDAR
