BEGIN:VCALENDAR
VERSION:2.0
BEGIN:VEVENT
STATUS:TENTATIVE
DTSTART:20170329T073000Z
DTEND:20170329T090000Z
SUMMARY:Obligaciones de IVA en Europa. Diferencias y dificultades.
LOCATION:Sede Central, C/ Claudio Coello 106, 6º dcha.
DESCRIPTION:Jornada. Ponente: Pedro Pestana.   Explicación general de las obligaciones de IVA en otros países, resaltando similitudes y diferencias con España. ¿Cuándo procede el  registro a efectos de IVA en otro país? Diferencias prácticas de conceptos en Derecho anglosajón y continental. 
END:VEVENT
END:VCALENDAR
