BEGIN:VCALENDAR
VERSION:2.0
BEGIN:VEVENT
STATUS:TENTATIVE
DTSTART:20170314T153000Z
DTEND:20170314T183000Z
SUMMARY:“Actuaciones controvertidas de los Entes Locales en materia de recaudación,  en especial, las llevadas a cabo por SUMA Gestión Tributaria
LOCATION:Auditorio del Business World Alicante
DESCRIPTION:Jornada. Horario:16:30 a 19:30
END:VEVENT
END:VCALENDAR
