BEGIN:VCALENDAR
VERSION:2.0
BEGIN:VEVENT
STATUS:TENTATIVE
DTSTART:20170330T140000Z
DTEND:20170330T170000Z
SUMMARY:La inversión del sujeto pasivo en el IVA
LOCATION:Hotel Sardinero,  Plaza de Italia, 1, 39005 Santander
DESCRIPTION:Jornada. Ponente: D. Francisco Javier Sánchez Gallardo, Inspector de Hacienda del Estado. Ex Subdirector General de Impuestos Indirectos de la Dirección General de Tributos
END:VEVENT
END:VCALENDAR
