BEGIN:VCALENDAR
VERSION:2.0
BEGIN:VEVENT
STATUS:TENTATIVE
DTSTART:20170321T153000Z
DTEND:20170321T183000Z
SUMMARY: Visión práctica del delito de defraudación tributaria y del delito contable
LOCATION:Auditorio Business World Alicante
DESCRIPTION:Jornada. Horario:16:30 a 19:30
END:VEVENT
END:VCALENDAR
