BEGIN:VCALENDAR
VERSION:2.0
BEGIN:VEVENT
STATUS:TENTATIVE
DTSTART:20170421T073000Z
DTEND:20170421T160000Z
SUMMARY:Encuentro de asociados y Visita cultural El Hereje
LOCATION:Hotel Meliá Recoletos (Acera de Recoletos, 13)
DESCRIPTION:Jornada. Programa pendiente de confirmación
END:VEVENT
END:VCALENDAR
