BEGIN:VCALENDAR
VERSION:2.0
BEGIN:VEVENT
STATUS:TENTATIVE
DTSTART:20170405T071500Z
DTEND:20170405T163000Z
SUMMARY:X Encuentro AEDAF. Jornada Nacional de Estudio
LOCATION:Hotel NH Collection Madrid Eurobuilding
DESCRIPTION:Jornada. Presencial o VideoStreaming
END:VEVENT
END:VCALENDAR
