BEGIN:VCALENDAR
VERSION:2.0
BEGIN:VEVENT
STATUS:TENTATIVE
DTSTART:20170427T143000Z
DTEND:20170427T183000Z
SUMMARY:Campaña de IRPF 2016
LOCATION:Salón de Actos del Edificio Rector Sabater, Ronda de Levante 10 (Antigua Facultad de Económicas), Murcia
DESCRIPTION:Jornada. Ponente: Víctor Perona Sevilla
END:VEVENT
END:VCALENDAR
