BEGIN:VCALENDAR
VERSION:2.0
BEGIN:VEVENT
STATUS:TENTATIVE
DTSTART:20170403T143000Z
DTEND:20170403T173000Z
SUMMARY:Novedades contables y fiscales. Cierre 2016 y medidas para 2017
LOCATION: Auditorio del Business World de Alicante. Planta 4.
DESCRIPTION:Jornada. Horario: 16:30 a 19:30
END:VEVENT
END:VCALENDAR
