BEGIN:VCALENDAR
VERSION:2.0
BEGIN:VEVENT
STATUS:TENTATIVE
DTSTART:20170425T143000Z
DTEND:20170425T173000Z
SUMMARY:Renta 2016.Novedades y cuestiones prácticas.
LOCATION:Auditorio del BusinessWorld Alicante
DESCRIPTION:Jornada. Horario: 16:30 a 19:30
END:VEVENT
END:VCALENDAR
