BEGIN:VCALENDAR
VERSION:2.0
BEGIN:VEVENT
STATUS:TENTATIVE
DTSTART:20170510T143000Z
DTEND:20170510T183000Z
SUMMARY:Ejecución de resoluciones y sentencias
LOCATION:Instituto de Censores Jurados de Cuentas. Plaza Fuensanta,  2 - 7º B.
DESCRIPTION:Jornada. Ponente: Félix Alberto Vega Borrego    Profesor Titular de Derecho Financiero y Tributario
END:VEVENT
END:VCALENDAR
