BEGIN:VCALENDAR
VERSION:2.0
BEGIN:VEVENT
STATUS:TENTATIVE
DTSTART:20170518T150000Z
DTEND:20170518T180000Z
SUMMARY:IVA. Operaciones inmobiliarias y otras cuestiones controvertidas en el IVA.  El nuevo Suministro de Información Inmediata (SII).
LOCATION:Hotel Silken Puerta de Valencia. Avinguda del Cardenal Benlloch, 28
DESCRIPTION:Jornada. 
END:VEVENT
END:VCALENDAR
