BEGIN:VCALENDAR
VERSION:2.0
BEGIN:VEVENT
STATUS:TENTATIVE
DTSTART:20170518T143000Z
DTEND:20170518T173000Z
SUMMARY:Tributación en el IVA de las actividades económicas realizadas a través de Internet
LOCATION:Auditorio del Business World Alicante
DESCRIPTION:Jornada. Horario:16:30 a 19:30
END:VEVENT
END:VCALENDAR
