BEGIN:VCALENDAR
VERSION:2.0
BEGIN:VEVENT
STATUS:TENTATIVE
DTSTART:20170511T150000Z
DTEND:20170511T180000Z
SUMMARY:Problemas prácticos de la prescripción desde la perspectiva de la reforma de la LGT por Ley 34/2015
LOCATION:Hotel Silken Puerta de Valencia. Avinguda del Cardenal Benlloch, 28
DESCRIPTION:Jornada. 
END:VEVENT
END:VCALENDAR
