BEGIN:VCALENDAR
VERSION:2.0
BEGIN:VEVENT
STATUS:TENTATIVE
DTSTART:20170907T070000Z
DTEND:20170907T180000Z
SUMMARY:Curso de Verano de Santander
LOCATION:Palacio de Exposiciones y Congresos de Santander
DESCRIPTION:Jornada. 
END:VEVENT
END:VCALENDAR
