BEGIN:VCALENDAR
VERSION:2.0
BEGIN:VEVENT
STATUS:TENTATIVE
DTSTART:20170511T150000Z
DTEND:20170511T180000Z
SUMMARY:Seminario: Actualización IRPF (campaña 2016)  y otras cuestiones sobre el procedimiento inspector
LOCATION:Salón de Actos del Colegio de Abogados de Sevilla
DESCRIPTION:Jornada. 
END:VEVENT
END:VCALENDAR
