BEGIN:VCALENDAR
VERSION:2.0
BEGIN:VEVENT
STATUS:TENTATIVE
DTSTART:20170529T163000Z
DTEND:20170529T183000Z
SUMMARY:Cuestiones de actualidad en el IVA de las operaciones inmobiliarias
LOCATION:Centro Busining. María de Molina, 54
DESCRIPTION:Jornada. Ponente: Javier Sánchez Gallardo
END:VEVENT
END:VCALENDAR
