BEGIN:VCALENDAR
VERSION:2.0
BEGIN:VEVENT
STATUS:TENTATIVE
DTSTART:20170620T140000Z
DTEND:20170620T163000Z
SUMMARY:Campaña de IS 2016
LOCATION:Sede Central, C/ Claudio Coello 106, 6º dcha.
DESCRIPTION:Jornada. Ponente: Antonio Barba de Alba
END:VEVENT
END:VCALENDAR
