BEGIN:VCALENDAR
VERSION:2.0
BEGIN:VEVENT
STATUS:TENTATIVE
DTSTART:20170608T073000Z
DTEND:20170608T090000Z
SUMMARY:El IIVTNU ¿En qué situación nos econtramos tras la STC de 11 de mayo de 2017?
LOCATION:Sede Central, C/ Claudio Coello 106, 6º dcha.
DESCRIPTION:Tertulia. Ponente: Diego Marín Barnuevo,Catedrático en la Universidad Autónoma de Madrid y Félix Vega Borrego,Profesor titular de Derecho Tributario de la Universidad Autónoma de Madrid 
END:VEVENT
END:VCALENDAR
