BEGIN:VCALENDAR
VERSION:2.0
BEGIN:VEVENT
STATUS:TENTATIVE
DTSTART:20170607T071500Z
DTEND:20170607T090000Z
SUMMARY:Desayuno España-Andorra: Nuevo marco fiscal y ventajas empresariales
LOCATION:CEOE (C/Diego de León 50)
DESCRIPTION:Tertulia. 
END:VEVENT
END:VCALENDAR
